BEGIN:VCALENDAR
VERSION:2.0
PRODID:-//Xcreator - ECPv6.5.0//NONSGML v1.0//EN
CALSCALE:GREGORIAN
METHOD:PUBLISH
X-ORIGINAL-URL:https://opte.ro
X-WR-CALDESC:Events for Xcreator
REFRESH-INTERVAL;VALUE=DURATION:PT1H
X-Robots-Tag:noindex
X-PUBLISHED-TTL:PT1H
BEGIN:VTIMEZONE
TZID:Europe/Bucharest
BEGIN:DAYLIGHT
TZOFFSETFROM:+0200
TZOFFSETTO:+0300
TZNAME:EEST
DTSTART:20240331T010000
END:DAYLIGHT
BEGIN:STANDARD
TZOFFSETFROM:+0300
TZOFFSETTO:+0200
TZNAME:EET
DTSTART:20241027T010000
END:STANDARD
TZID:UTC
BEGIN:STANDARD
TZOFFSETFROM:+0000
TZOFFSETTO:+0000
TZNAME:UTC
DTSTART:20230101T000000
END:STANDARD
END:VTIMEZONE
BEGIN:VEVENT
DTSTART;TZID=Europe/Bucharest:20240216T090000
DTEND;TZID=Europe/Bucharest:20240216T170000
DTSTAMP:20260419T182315
CREATED:20230717T040149Z
LAST-MODIFIED:20240201T105437Z
UID:3055-1708074000-1708102800@opte.ro
SUMMARY:Lean Six Sigma - Champions
DESCRIPTION:Prezentare generală Lean Six Sigma : Istoric\, Principii\, Domenii de aplicabilitate\, Impact organizațional\, Costuri și beneficii. \nOptimizare proces aplicând principiile Lean : Fluxul valorii ţinând cont de cerinţele clienţilor (cost\, calitate şi termen de livrare)\, Analiza ”as is”\, Activități cu valoare adăugată\, 7 Risipe\, Takt time\, 5 S\, Standard Work\, Visual Management. \nAnaliza cauzelor speciale/ comune\, Metode Poka-Yoke\, Analiza risc /FMEA\, Planuri de control\, Concepte privind managementul schimbării. \nProiecte de succes utilizand metodologia Lean Six-Sigma. Exemple.
URL:https://opte.ro/evenimente/lean-six-sigma-champions/
LOCATION:Bucuresti & Online
CATEGORIES:Lean Six Sigma
ATTACH;FMTTYPE=image/jpeg:https://opte.ro/wp-content/uploads/2024/02/Echipa-muncitori-costum_leaders.jpg
END:VEVENT
BEGIN:VEVENT
DTSTART;TZID=UTC:20240130T090000
DTEND;TZID=UTC:20240131T170000
DTSTAMP:20260419T182315
CREATED:20230817T220004Z
LAST-MODIFIED:20240110T110008Z
UID:3457-1706605200-1706720400@opte.ro
SUMMARY:Excel Intermediar
DESCRIPTION:Curs Excel – nivel intermediar\, destinat celor care doresc sa utilizezze mai mult decat functiunile de baza Excel \, sa faca economie de timp si sa lucreze eficient. La finalul acestui curs de Excel® \, cursantii vor fi capabili sa prelucreze datele\, sintetiza\, grupa\, raporta\, genera statistici comparative\, analize\, practic il vor folosi ca pe un instrument de productivitate si de suport decizional.
URL:https://opte.ro/evenimente/excel-intermediar/
LOCATION:Online
CATEGORIES:Excel
ATTACH;FMTTYPE=image/webp:https://opte.ro/wp-content/uploads/2023/08/Curs-Excel-Intermediar.webp
END:VEVENT
BEGIN:VEVENT
DTSTART;TZID=UTC:20240125T090000
DTEND;TZID=UTC:20240126T170000
DTSTAMP:20260419T182315
CREATED:20230818T044637Z
LAST-MODIFIED:20240110T110402Z
UID:3620-1706173200-1706288400@opte.ro
SUMMARY:FMEA (Failure Modes and Effects Analysis)
DESCRIPTION:Cursul este actualizat conform manualului AIAG & VDA editia 1. Metoda FMEA identifica si evalua riscurile potentiale asociate cu procese sau sisteme\, prin analiza modurilor de esec posibile\, evaluarea impactului acestora asupra sistemului si dezvoltarea strategiilor pentru reducerea sau eliminarea acestor riscuri.
URL:https://opte.ro/evenimente/pfmea/
LOCATION:Sibiu & Online
CATEGORIES:Automotive
ATTACH;FMTTYPE=image/webp:https://opte.ro/wp-content/uploads/2023/08/Process-FMEA.webp
END:VEVENT
BEGIN:VEVENT
DTSTART;TZID=UTC:20231211T090000
DTEND;TZID=UTC:20231212T170000
DTSTAMP:20260419T182315
CREATED:20230818T055036Z
LAST-MODIFIED:20230818T055036Z
UID:3700-1702285200-1702400400@opte.ro
SUMMARY:Excel intermediar
DESCRIPTION:Curs Excel – nivel intermediar\, destinat celor care doresc sa utilizezze mai mult decat functiunile de baza Excel \, sa faca economie de timp si sa lucreze eficient. La finalul acestui curs de Excel® \, cursantii vor fi capabili sa prelucreze datele\, sintetiza\, grupa\, raporta\, genera statistici comparative\, analize\, practic il vor folosi ca pe un instrument de productivitate si de suport decizional.
URL:https://opte.ro/evenimente/excel-intermediar-3/
LOCATION:Online
CATEGORIES:Excel
ATTACH;FMTTYPE=image/webp:https://opte.ro/wp-content/uploads/2023/08/Excel-Nivel-Expert.webp
END:VEVENT
BEGIN:VEVENT
DTSTART;TZID=UTC:20231207T090000
DTEND;TZID=UTC:20231208T170000
DTSTAMP:20260419T182315
CREATED:20230818T054014Z
LAST-MODIFIED:20230818T054014Z
UID:3696-1701939600-1702054800@opte.ro
SUMMARY:LSS Green Belt Modul 2
DESCRIPTION:Cursul Lean Six Sigma (LSS) Green Belt ofera participantilor o intelegere avansata a instrumentelor LSS\, le dezvolta abilitati practice necesare pentru a identifica\, coordona\, implementa si gestiona proiecte de imbunatatire continua. \nModul 1 (2 zile): 23\,24 Noiembrie\nModul 2 (2 zile): 7\,8 Decembrie
URL:https://opte.ro/evenimente/lss-green-belt-modul-2-2/
LOCATION:Online
CATEGORIES:Lean Six Sigma
ATTACH;FMTTYPE=image/webp:https://opte.ro/wp-content/uploads/2023/08/Lean-Six-Sigma-Green-Belt.webp
END:VEVENT
BEGIN:VEVENT
DTSTART;TZID=UTC:20231204T090000
DTEND;TZID=UTC:20231204T170000
DTSTAMP:20260419T182315
CREATED:20230818T054251Z
LAST-MODIFIED:20230818T054827Z
UID:3698-1701680400-1701709200@opte.ro
SUMMARY:Lean 5S
DESCRIPTION:5S este fundamentul oricarei implementari LEAN intr-o organizatie\, de aceea cursul imbina introducerea in cultura imbunatatirii continue LEAN cu aplicarea practica a pasilor 5S in organizatie.
URL:https://opte.ro/evenimente/lean-5s/
LOCATION:Sediul clientului
CATEGORIES:Lean
ATTACH;FMTTYPE=image/webp:https://opte.ro/wp-content/uploads/2023/08/Lean-5S.webp
END:VEVENT
BEGIN:VEVENT
DTSTART;TZID=UTC:20231120T090000
DTEND;TZID=UTC:20231122T170000
DTSTAMP:20260419T182315
CREATED:20230920T083531Z
LAST-MODIFIED:20230920T083531Z
UID:3800-1700470800-1700672400@opte.ro
SUMMARY:LSS Black Belt M2
DESCRIPTION:Participarea la Lean Six Sigma (LSS) Black Belt necesita un nivel de cunostinte avansate (curs nivel LSS Green Belt sau similar de activitati practice). Cursul include certificare internationala Lean Six Sigma de catre un organism tert. \nModul 1 (2 zile) – online: 13\,14 Noiembrie\nModul 2 (3 zile) – 2 zile online & ultima zi in sala / fata-in-fata: 20\,21\,22 Noiembrie
URL:https://opte.ro/evenimente/lss-black-belt-m2/
LOCATION:Online & Sala curs
CATEGORIES:Lean Six Sigma
ATTACH;FMTTYPE=image/webp:https://opte.ro/wp-content/uploads/2023/08/Black-Belt.webp
END:VEVENT
BEGIN:VEVENT
DTSTART;TZID=UTC:20231116T090000
DTEND;TZID=UTC:20231117T170000
DTSTAMP:20260419T182315
CREATED:20230818T053703Z
LAST-MODIFIED:20230920T083602Z
UID:3691-1700125200-1700240400@opte.ro
SUMMARY:Lean Avasant
DESCRIPTION:Nivelul Avansat dezvolta conceptele si instrumente invatate in LEAN Fundamente si le aliniaza strategiei de afaceri. Acest lucru va pune accentul pe indicatori (KPIs) de proces si de performanta\, ceea ce angajeaza organizatia intr-un mod diferit de a gandi\, ce permite imbunatatiri dramatice in performanta afacerii.
URL:https://opte.ro/evenimente/lean-avasant/
CATEGORIES:Lean
ATTACH;FMTTYPE=image/webp:https://opte.ro/wp-content/uploads/2023/08/Curs-LEAN-manufacturing-AVANSAT.webp
END:VEVENT
BEGIN:VEVENT
DTSTART;TZID=UTC:20231113T090000
DTEND;TZID=UTC:20231114T170000
DTSTAMP:20260419T182315
CREATED:20230818T052010Z
LAST-MODIFIED:20230920T083323Z
UID:3685-1699866000-1699981200@opte.ro
SUMMARY:LSS Black Belt M1
DESCRIPTION:Participarea la Lean Six Sigma (LSS) Black Belt necesita un nivel de cunostinte avansate (curs nivel LSS Green Belt sau similar de activitati practice). Cursul include certificare internationala Lean Six Sigma de catre un organism tert. \nModul 1 (2 zile) – online: 13\,14 Noiembrie\nModul 2 (3 zile) – 2 zile online & ultima zi in sala / fata-in-fata: 20\,21\,22 Noiembrie
URL:https://opte.ro/evenimente/lss-black-belt/
LOCATION:Online & Sala curs
CATEGORIES:Lean Six Sigma
ATTACH;FMTTYPE=image/webp:https://opte.ro/wp-content/uploads/2023/08/Black-Belt.webp
END:VEVENT
BEGIN:VEVENT
DTSTART;TZID=UTC:20231012T090000
DTEND;TZID=UTC:20231013T170000
DTSTAMP:20260419T182315
CREATED:20230818T050132Z
LAST-MODIFIED:20230818T052034Z
UID:3674-1697101200-1697216400@opte.ro
SUMMARY:LSS Green Belt Modul 2
DESCRIPTION:Cursul Lean Six Sigma (LSS) Green Belt ofera participantilor o intelegere avansata a instrumentelor LSS\, le dezvolta abilitati practice necesare pentru a identifica\, coordona\, implementa si gestiona proiecte de imbunatatire continua.\nModul 1 (2 zile): 2\,3 Octombrie\nModul 2 (2 zile): 12\,13 Octombrie
URL:https://opte.ro/evenimente/lss-green-belt-modul-2/
LOCATION:Online
CATEGORIES:Lean Six Sigma
ATTACH;FMTTYPE=image/webp:https://opte.ro/wp-content/uploads/2023/08/Lean-Six-Sigma-Green-Belt.webp
END:VEVENT
BEGIN:VEVENT
DTSTART;TZID=UTC:20230828T090000
DTEND;TZID=UTC:20230829T170000
DTSTAMP:20260419T182315
CREATED:20230818T045518Z
LAST-MODIFIED:20230818T045616Z
UID:3665-1693213200-1693328400@opte.ro
SUMMARY:TISAX (Trusted Information Security Assessment Exchange)
DESCRIPTION:Acest curs urmareste furnizarea informatiilor si crearea de abilitati de lucru pentru utilizarea metodologiei TISAX\, prezentarea principalelor concepte\, prezentare de exemple de buna practica si identificarea unor cai de implementare si evaluare TISAX intr-o organizatie.
URL:https://opte.ro/evenimente/tisax-trusted-information-security-assessment-exchange/
LOCATION:Sediul clientului
CATEGORIES:Automotive
ATTACH;FMTTYPE=image/webp:https://opte.ro/wp-content/uploads/2023/08/TISAX-–-Trusted-Information-Security-Assessment-Exchange.webp
END:VEVENT
END:VCALENDAR